BEGIN:VCALENDAR
VERSION:2.0
PRODID:-//162.241.218.121//NONSGML kigkonsult.se iCalcreator 2.26.9//
CALSCALE:GREGORIAN
METHOD:PUBLISH
X-FROM-URL:https://www.servicecoordinators.net
X-WR-TIMEZONE:America/Los_Angeles
BEGIN:VTIMEZONE
TZID:America/Los_Angeles
X-LIC-LOCATION:America/Los_Angeles
BEGIN:STANDARD
DTSTART:20251102T020000
TZOFFSETFROM:-0700
TZOFFSETTO:-0800
RDATE:20261101T020000
TZNAME:PST
END:STANDARD
BEGIN:DAYLIGHT
DTSTART:20260308T020000
TZOFFSETFROM:-0800
TZOFFSETTO:-0700
RDATE:20270314T020000
TZNAME:PDT
END:DAYLIGHT
END:VTIMEZONE
BEGIN:VEVENT
UID:ai1ec-1312@servicecoordinators.net
DTSTAMP:20260423T141706Z
CATEGORIES;LANGUAGE=en-US:Conference\,Service Coordinators
CONTACT:NERSC\, Inc.\; (508) 863-0020\; nerscinc@hotmail.com\; https://www.
 nerscinc.org/annual-conference
DESCRIPTION:<p class='font_8' style='text-align: justify\;'>he Maine State 
 Housing Authority is proud to serve as host of the 19th Annual New England
  Resident Service Coordinators Conference. The Maine coast provides a love
 ly backdrop for you to network with your peers\, support each other in you
 r profession\, and learn invaluable tools to help your residents.</p>\n<p 
 class='font_8' style='text-align: justify\;'>Resident service coordinators
  are an important\, integral part of a housing management team. You strive
  to meet the needs of residents\, owners and managers\, and service provid
 ers by encouraging and promoting self-sufficiency and independence while a
 ssuring quality of life and a sense of community in affordable housing. It
 ’s through your efforts that long-term\, successful tenancies are achieved
 . We appreciate your commitment to the stable relationships you form and t
 he homes you create.</p>\n<p>Tickets: <a class='ai1ec-ticket-url-exported'
  href='https://www.nerscinc.org/annual-conference'>https://www.nerscinc.or
 g/annual-conference</a>.</p>
DTSTART;VALUE=DATE:20231104
DTEND;VALUE=DATE:20231107
GEO:+44.122698;-69.089999
LOCATION:Samoset Resort @ 220 Warrenton St\, Rockport\, ME 04856\, USA
SEQUENCE:0
SUMMARY:2022 – 24th Annual NERSC\, Inc. Conference
URL:https://www.servicecoordinators.net/event/2022-24th-annual-nersc-inc-co
 nference/
X-COST-TYPE:external
X-TAGS;LANGUAGE=en-US:19th Annual NERSC\,Inc. Conference\,Maine
X-COST:$425
X-TICKETS-URL:https://www.nerscinc.org/annual-conference
END:VEVENT
BEGIN:VEVENT
UID:ai1ec-1448@www.servicecoordinators.net
DTSTAMP:20260423T141706Z
CATEGORIES:
CONTACT:
DESCRIPTION:
DTSTART;VALUE=DATE:20260101
DTEND;VALUE=DATE:20260102
LOCATION:Marriott Marquis
SEQUENCE:0
SUMMARY:2026 AASC Conference
URL:https://www.servicecoordinators.net/event/2026-aasc-conference/
X-COST-TYPE:free
END:VEVENT
BEGIN:VEVENT
UID:ai1ec-1257@servicecoordinators.net
DTSTAMP:20260423T141706Z
CATEGORIES;LANGUAGE=en-US:Conference
CONTACT:Kristen Schweitzer\; 614-848-5958\; kschweitzer@servicecoordinator.
 org\; http://www.servicecoordinator.org/
DESCRIPTION:<p style='text-align: justify\;'>The National Service Coordinat
 or Conference is the largest conference in the country dedicated to servic
 e coordination for the elderly and for families. It is recognized as the v
 enue for knowledge\, new innovations\, best practices and real-life soluti
 ons to the challenges faced every day by members and participants.</p>\n<p
  style='text-align: justify\;'>You will have the opportunity to meet with 
 service coordinators\, property managers\, housing and services directors\
 , and other professionals working in the affordable and public housing ind
 ustry.</p>
DTSTART;VALUE=DATE:20261221
DTEND;VALUE=DATE:20261225
GEO:+33.757916;-84.394776
LOCATION:Omni Atlanta Hotel at CNN Center @ 100 CNN Center\, Atlanta\, GA 3
 0303\, USA
SEQUENCE:0
SUMMARY:2026 National Service Coordinator Conference
URL:https://www.servicecoordinators.net/event/2026-national-service-coordin
 ator-conference/
X-COST-TYPE:free
X-TAGS;LANGUAGE=en-US:AASC National Service Coordinator Conference\,Atlanta
 \,Omni at CNN Center
X-COST:TBD
END:VEVENT
BEGIN:VEVENT
UID:ai1ec-1450@www.servicecoordinators.net
DTSTAMP:20260423T141706Z
CATEGORIES:
CONTACT:
DESCRIPTION:
DTSTART;VALUE=DATE:20270204
DTEND;VALUE=DATE:20270205
SEQUENCE:0
SUMMARY:2027 Golden Age Senior Health Fair
URL:https://www.servicecoordinators.net/event/2027-golden-age-senior-health
 -fair/
X-COST-TYPE:free
END:VEVENT
BEGIN:VEVENT
UID:ai1ec-1449@www.servicecoordinators.net
DTSTAMP:20260423T141706Z
CATEGORIES:
CONTACT:
DESCRIPTION:
DTSTART;VALUE=DATE:20280308
DTEND;VALUE=DATE:20280309
SEQUENCE:0
SUMMARY:2028 Live Well Conference
URL:https://www.servicecoordinators.net/event/2028-live-well-conference/
X-COST-TYPE:free
END:VEVENT
END:VCALENDAR
